BEGIN:VCALENDAR
VERSION:2.0
PRODID:-//Sarawak Sports Corporation - ECPv6.3.5//NONSGML v1.0//EN
CALSCALE:GREGORIAN
METHOD:PUBLISH
X-WR-CALNAME:Sarawak Sports Corporation
X-ORIGINAL-URL:https://www.ssc16.gov.my
X-WR-CALDESC:Events for Sarawak Sports Corporation
REFRESH-INTERVAL;VALUE=DURATION:PT1H
X-Robots-Tag:noindex
X-PUBLISHED-TTL:PT1H
BEGIN:VTIMEZONE
TZID:UTC
BEGIN:STANDARD
TZOFFSETFROM:+0000
TZOFFSETTO:+0000
TZNAME:UTC
DTSTART:20170101T000000
END:STANDARD
END:VTIMEZONE
BEGIN:VEVENT
DTSTART;VALUE=DATE:20170818
DTEND;VALUE=DATE:20170819
DTSTAMP:20260421T180934
CREATED:20170823T220747Z
LAST-MODIFIED:20170823T220747Z
UID:16283-1503014400-1503100799@www.ssc16.gov.my
SUMMARY:Perlawanan Bola Sepak Persahabatan antara Pasukan Bekas Pemain Ngap Sayot vs Pasukan Perbadanan Sukan Sarawak
DESCRIPTION:
URL:https://www.ssc16.gov.my/event/perlawanan-bola-sepak-persahabatan-antara-pasukan-bekas-pemain-ngap-sayot-vs-pasukan-perbadanan-sukan-sarawak/
LOCATION:Padang C\, Kompleks Sukan Petra Jaya\, C & D Football Field\, Jalan Stadium\, Petra Jaya\, Kuching\, Sarawak\, 93050\, Malaysia
CATEGORIES:SSC
END:VEVENT
BEGIN:VEVENT
DTSTART;VALUE=DATE:20170812
DTEND;VALUE=DATE:20170816
DTSTAMP:20260421T180934
CREATED:20170730T180116Z
LAST-MODIFIED:20170814T092256Z
UID:16057-1502496000-1502841599@www.ssc16.gov.my
SUMMARY:Sarawak U21 Single
DESCRIPTION:
URL:https://www.ssc16.gov.my/event/sarawak-u21-single/
LOCATION:Indoor Stadium\, Jalan Stadium\, Kuching\, Sarawak\, 93050\, Malaysia
CATEGORIES:SSC
END:VEVENT
BEGIN:VEVENT
DTSTART;VALUE=DATE:20170805
DTEND;VALUE=DATE:20170807
DTSTAMP:20260421T180934
CREATED:20170730T175434Z
LAST-MODIFIED:20170814T091626Z
UID:16049-1501891200-1502063999@www.ssc16.gov.my
SUMMARY:7th Interschool Samarahan Swimming
DESCRIPTION:
URL:https://www.ssc16.gov.my/event/7th-interschool-samarahan-swimming/
LOCATION:Sarawak Aquatic Centre\, Petra Jaya\, Jln Diplomatik\, Petra Jaya\, Kuching\, Sarawak\, 93050\, Malaysia
CATEGORIES:SSC
END:VEVENT
BEGIN:VEVENT
DTSTART;VALUE=DATE:20170801
DTEND;VALUE=DATE:20170807
DTSTAMP:20260421T180934
CREATED:20170730T174936Z
LAST-MODIFIED:20170814T091633Z
UID:16046-1501545600-1502063999@www.ssc16.gov.my
SUMMARY:Pertandingan Pencak Silat Piala Presiden
DESCRIPTION:
URL:https://www.ssc16.gov.my/event/pertandingan-pencak-silat-piala-presiden/
LOCATION:Sarawak
CATEGORIES:SSC
END:VEVENT
BEGIN:VEVENT
DTSTART;VALUE=DATE:20170722
DTEND;VALUE=DATE:20170723
DTSTAMP:20260421T180934
CREATED:20170823T220511Z
LAST-MODIFIED:20170823T220511Z
UID:16281-1500681600-1500767999@www.ssc16.gov.my
SUMMARY:31st Malaysian International Open Masters Athletics Champion-ships (31st MIOMAC)
DESCRIPTION:
URL:https://www.ssc16.gov.my/event/31st-malaysian-international-open-masters-athletics-champion-ships-31st-miomac/
LOCATION:Sarawak
CATEGORIES:SSC
END:VEVENT
END:VCALENDAR